View In:
ArcGIS JavaScript
ArcGIS Online Map Viewer
ArcGIS Earth
ArcMap
View Footprint In:
ArcGIS Online Map Viewer
Service Description: dem/dtm
Name: dem/dtm
Description:
Single Fused Map Cache: false
Extent:
XMin: 161177.7910000002
YMin: 807955.742800001
XMax: 239643.7910000002
YMax: 923243.742800001
Spatial Reference: 5316
(5316)
Initial Extent:
XMin: 161177.7910000002
YMin: 807955.742800001
XMax: 239643.7910000002
YMax: 923243.742800001
Spatial Reference: 5316
(5316)
Full Extent:
XMin: 161177.7910000002
YMin: 807955.742800001
XMax: 239643.7910000002
YMax: 923243.742800001
Spatial Reference: 5316
(5316)
Pixel Size X: 1.0
Pixel Size Y: 1.0
Band Count: 1
Pixel Type: F32
RasterFunction Infos: {"rasterFunctionInfos": [{
"name": "None",
"description": "Make a Raster or Raster Dataset into a Function Raster Dataset.",
"help": ""
}]}
Mensuration Capabilities:
Has Histograms: true
Has Colormap: false
Has Multi Dimensions : false
Rendering Rule:
Min Scale: 0
Max Scale: 0
Copyright Text:
Edit Fields Info:
- Creation Date Field: registered_date
- Creator Field: registered_by
- Edit Date Field: modified_date
- Editor Field: modified_by
Ownership Based Access Control:
- Allow Others to Update: false
- Allow Others to Delete: false
Service Data Type: esriImageServiceDataTypeElevation
Min Values: 0.5513258601247556
Max Values: 931.4065955941873
Mean Values: 228.12438236020753
Standard Deviation Values: 148.30678665633937
Object ID Field: OBJECTID
Fields:
-
OBJECTID
(
type: esriFieldTypeOID, alias: OBJECTID
)
-
Shape
(
type: esriFieldTypeGeometry, alias: Shape
)
-
Name
(
type: esriFieldTypeString, alias: Name, length: 200
)
-
Category
(
type: esriFieldTypeInteger, alias: Category
, Coded Values:
[0: Unknown]
, [1: Primary]
, [2: Overview]
, ...6 more...
)
-
GroupName
(
type: esriFieldTypeString, alias: GroupName, length: 100
)
-
ProductName
(
type: esriFieldTypeString, alias: ProductName, length: 100
)
-
raster_capture_date
(
type: esriFieldTypeDate, alias: raster_capture_date, length: 8
)
-
raster_resolution
(
type: esriFieldTypeSmallInteger, alias: raster_resolution
)
-
raster_capture_year
(
type: esriFieldTypeSmallInteger, alias: raster_capture_year
)
-
aircraft
(
type: esriFieldTypeSmallInteger, alias: aircraft
, Coded Values:
[-1: ikki ásett]
, [0: annað]
, [1: fylgisveinur]
, ...6 more...
)
-
comment
(
type: esriFieldTypeString, alias: comment, length: 255
)
Default Mosaic Method: ByAttribute
Allowed Mosaic Methods: ByAttribute
SortField: raster_capture_year
SortValue: 3000
Mosaic Operator: First
Default Compression Quality: 75
Default Resampling Method: Bilinear
Max Record Count: 1000
Max Image Height: 4100
Max Image Width: 15000
Max Download Image Count: 20
Max Mosaic Image Count: 50
Allow Raster Function: true
Allow Copy: true
Allow Analysis: true
Allow Compute TiePoints: false
Supports Statistics: true
Supports Advanced Queries: true
Use StandardizedQueries: true
Raster Type Infos:
Name: Raster Dataset
Description: Supports all ArcGIS Raster Datasets
Help:
Has Raster Attribute Table: false
Edit Fields Info: {"creationDateField":"registered_date","creatorField":"registered_by","editDateField":"modified_date","editorField":"modified_by"}
Ownership Based AccessControl For Rasters: {"allowOthersToDelete":false,"allowOthersToUpdate":false}
Child Resources:
Info
Histograms
Statistics
Key Properties
Legend
Raster Function Infos
Supported Operations:
Export Image
Query
Identify
Compute Histograms
Compute Statistics Histograms
Get Samples
Compute Class Statistics
Query Boundary
Compute Pixel Location
Compute Angles
Validate
Project
Calculate Volume