View In:
ArcGIS JavaScript
ArcGIS Online Map Viewer
ArcGIS Earth
ArcMap
View Footprint In:
ArcGIS Online Map Viewer
Service Description: dem/aspect
Name: dem/aspect
Description:
Single Fused Map Cache: false
Extent:
XMin: 161177.76353000003
YMin: 807954.2894400002
XMax: 239645.76353000003
YMax: 923246.2894400002
Spatial Reference: 5316
(5316)
Initial Extent:
XMin: 161177.76353000003
YMin: 807954.2894400002
XMax: 239645.76353000003
YMax: 923246.2894400002
Spatial Reference: 5316
(5316)
Full Extent:
XMin: 161177.76353000003
YMin: 807954.2894400002
XMax: 239645.76353000003
YMax: 923246.2894400002
Spatial Reference: 5316
(5316)
Pixel Size X: 4.0
Pixel Size Y: 4.0
Band Count: 1
Pixel Type: F32
RasterFunction Infos: {"rasterFunctionInfos": [{
"name": "None",
"description": "",
"help": ""
}]}
Mensuration Capabilities: Basic
Has Histograms: true
Has Colormap: false
Has Multi Dimensions : false
Rendering Rule:
Min Scale: 0
Max Scale: 0
Copyright Text:
Service Data Type: esriImageServiceDataTypeGeneric
Min Values: -0.2949376106262207
Max Values: 359.2868809700012
Mean Values: 159.09047731726224
Standard Deviation Values: 87.52995355416316
Object ID Field: OBJECTID
Fields:
-
OBJECTID
(
type: esriFieldTypeOID, alias: OBJECTID
)
-
Shape
(
type: esriFieldTypeGeometry, alias: Shape
)
-
Name
(
type: esriFieldTypeString, alias: Name, length: 200
)
-
Category
(
type: esriFieldTypeInteger, alias: Category
, Coded Values:
[0: Unknown]
, [1: Primary]
, [2: Overview]
, ...6 more...
)
-
GroupName
(
type: esriFieldTypeString, alias: GroupName, length: 100
)
-
ProductName
(
type: esriFieldTypeString, alias: ProductName, length: 100
)
-
ZOrder
(
type: esriFieldTypeInteger, alias: ZOrder
)
-
raster_capture_date
(
type: esriFieldTypeDate, alias: raster_capture_date, length: 8
)
-
raster_resolution
(
type: esriFieldTypeSmallInteger, alias: raster_resolution
)
-
raster_capture_year
(
type: esriFieldTypeSmallInteger, alias: raster_capture_year
)
-
aircraft
(
type: esriFieldTypeSmallInteger, alias: aircraft
, Coded Values:
[-1: ikki ásett]
, [0: annað]
, [1: fylgisveinur]
, ...6 more...
)
-
comment
(
type: esriFieldTypeString, alias: comment, length: 255
)
Default Mosaic Method: ByAttribute
Allowed Mosaic Methods: ByAttribute
SortField: ZOrder
SortValue:
Mosaic Operator: Last
Default Compression Quality: 75
Default Resampling Method: Bilinear
Max Record Count: 1000
Max Image Height: 4100
Max Image Width: 15000
Max Download Image Count: 20
Max Mosaic Image Count: 20
Allow Raster Function: true
Allow Copy: true
Allow Analysis: true
Allow Compute TiePoints: false
Supports Statistics: true
Supports Advanced Queries: true
Use StandardizedQueries: true
Raster Type Infos:
Name: Raster Dataset
Description: Supports all ArcGIS Raster Datasets
Help:
Has Raster Attribute Table: false
Edit Fields Info: null
Ownership Based AccessControl For Rasters: null
Child Resources:
Info
Histograms
Statistics
Key Properties
Legend
Raster Function Infos
Supported Operations:
Export Image
Query
Identify
Measure
Compute Histograms
Compute Statistics Histograms
Get Samples
Compute Class Statistics
Query Boundary
Compute Pixel Location
Compute Angles
Validate
Project