{ "currentVersion": 10.91, "cimVersion": "2.9.0", "serviceDescription": "
Myndakort mosaik av kirkjugørðum í Tórshavnar kommunu. Mosaik inniheldur myndakortini sum vísa kirkjugarðar í hægri detail enn vanligt myndakort<\/SPAN><\/P><\/DIV><\/DIV><\/DIV>",
"mapName": "myndakort_kirkjugardar",
"description": " Myndakort mosaik av kirkjugørðum í Tórshavnar kommunu. Mosaik inniheldur myndakortini sum vísa kirkjugarðar í hægri detail enn vanligt myndakort<\/SPAN><\/P><\/DIV><\/DIV><\/DIV>",
"copyrightText": "©Tórshavnar kommuna",
"supportsDynamicLayers": true,
"layers": [
{
"id": 0,
"name": "kirkjugardar",
"parentLayerId": -1,
"defaultVisibility": true,
"subLayerIds": [
1,
2,
3
],
"minScale": 100000,
"maxScale": 0,
"type": "Mosaic Layer",
"supportsDynamicLegends": false
},
{
"id": 1,
"name": "Boundary",
"parentLayerId": 0,
"defaultVisibility": false,
"subLayerIds": null,
"minScale": 0,
"maxScale": 0,
"type": "Feature Layer",
"geometryType": "esriGeometryPolygon",
"supportsDynamicLegends": true
},
{
"id": 2,
"name": "Footprint",
"parentLayerId": 0,
"defaultVisibility": false,
"subLayerIds": null,
"minScale": 0,
"maxScale": 0,
"type": "Feature Layer",
"geometryType": "esriGeometryPolygon",
"supportsDynamicLegends": true
},
{
"id": 3,
"name": "Image",
"parentLayerId": 0,
"defaultVisibility": true,
"subLayerIds": null,
"minScale": 0,
"maxScale": 0,
"type": "Raster Layer",
"supportsDynamicLegends": true
}
],
"tables": [],
"spatialReference": {
"wkid": 5316,
"latestWkid": 5316,
"xyTolerance": 0.001,
"zTolerance": 0.001,
"mTolerance": 0.001,
"falseX": -5423100,
"falseY": -16002100,
"xyUnits": 10000,
"falseZ": -100000,
"zUnits": 10000,
"falseM": -100000,
"mUnits": 10000
},
"singleFusedMapCache": true,
"tileInfo": {
"rows": 256,
"cols": 256,
"dpi": 96,
"format": "MIXED",
"compressionQuality": 75,
"origin": {
"x": -5423100,
"y": 4002100
},
"spatialReference": {
"wkid": 5316,
"latestWkid": 5316,
"xyTolerance": 0.001,
"zTolerance": 0.001,
"mTolerance": 0.001,
"falseX": -5423100,
"falseY": -16002100,
"xyUnits": 4.5026540700157917E8,
"falseZ": -100000,
"zUnits": 10000,
"falseM": -100000,
"mUnits": 10000
},
"lods": [
{
"level": 0,
"resolution": 135.46693760054188,
"scale": 512000
},
{
"level": 1,
"resolution": 67.73346880027094,
"scale": 256000
},
{
"level": 2,
"resolution": 33.86673440013547,
"scale": 128000
},
{
"level": 3,
"resolution": 16.933367200067735,
"scale": 64000
},
{
"level": 4,
"resolution": 8.466683600033868,
"scale": 32000
},
{
"level": 5,
"resolution": 4.233341800016934,
"scale": 16000
},
{
"level": 6,
"resolution": 2.116670900008467,
"scale": 8000
},
{
"level": 7,
"resolution": 1.0583354500042335,
"scale": 4000
},
{
"level": 8,
"resolution": 0.5291677250021167,
"scale": 2000
},
{
"level": 9,
"resolution": 0.26458386250105836,
"scale": 1000
},
{
"level": 10,
"resolution": 0.13229193125052918,
"scale": 500
},
{
"level": 11,
"resolution": 0.06614596562526459,
"scale": 250
},
{
"level": 12,
"resolution": 0.033072982812632296,
"scale": 125
},
{
"level": 13,
"resolution": 0.016536491406316148,
"scale": 62.5
}
]
},
"storageInfo": {
"storageFormat": "esriMapCacheStorageModeCompactV2",
"packetSize": 128
},
"initialExtent": {
"xmin": 199811.06252454343,
"ymin": 870819.5118365535,
"xmax": 221982.67591326806,
"ymax": 891035.8065598614,
"spatialReference": {
"wkid": 5316,
"latestWkid": 5316,
"xyTolerance": 0.001,
"zTolerance": 0.001,
"mTolerance": 0.001,
"falseX": -5423100,
"falseY": -16002100,
"xyUnits": 10000,
"falseZ": -100000,
"zUnits": 10000,
"falseM": -100000,
"mUnits": 10000
}
},
"fullExtent": {
"xmin": 204540.64824463235,
"ymin": 871738.4340999983,
"xmax": 217253.09019317917,
"ymax": 890116.8840724383,
"spatialReference": {
"wkid": 5316,
"latestWkid": 5316,
"xyTolerance": 0.001,
"zTolerance": 0.001,
"mTolerance": 0.001,
"falseX": -5423100,
"falseY": -16002100,
"xyUnits": 10000,
"falseZ": -100000,
"zUnits": 10000,
"falseM": -100000,
"mUnits": 10000
}
},
"datesInUnknownTimezone": false,
"minScale": 500,
"maxScale": 62.5,
"minLOD": 9,
"maxLOD": 13,
"units": "esriMeters",
"supportedImageFormatTypes": "PNG32,PNG24,PNG,JPG,DIB,TIFF,EMF,PS,PDF,GIF,SVG,SVGZ,BMP",
"documentInfo": {
"Title": "Myndakort kirkjugarðar",
"Author": "",
"Comments": " Myndakort mosaik av kirkjugørðum í Tórshavnar kommunu. Mosaik inniheldur myndakortini sum vísa kirkjugarðar í hægri detail enn vanligt myndakort<\/SPAN><\/P><\/DIV><\/DIV><\/DIV>",
"Subject": "Myndakort mosaik av kirkjugørðum í Tórshavnar kommunu. Mosaik inniheldur myndakortini sum vísa kirkjugarðar í hægri detail enn vanligt myndakort",
"Category": "",
"AntialiasingMode": "None",
"TextAntialiasingMode": "Force",
"Version": "2.9.0",
"Keywords": "myndakort,tk,kirkjugarðin"
},
"capabilities": "Map,Query,Data",
"supportedQueryFormats": "JSON, geoJSON, PBF",
"exportTilesAllowed": false,
"referenceScale": 0.0,
"supportsDatumTransformation": true,
"archivingInfo": {"supportsHistoricMoment": false},
"supportsClipping": true,
"supportsSpatialFilter": true,
"supportsTimeRelation": true,
"supportsQueryDataElements": true,
"maxRecordCount": 100,
"maxImageHeight": 4096,
"maxImageWidth": 4096,
"supportedExtensions": ""
}