{
 "currentVersion": 10.91,
 "serviceDescription": "Myndakort av Tórhsavnar kommunu til almenningin. Zoom er avmarkað til 1:1000",
 "mapName": "Layers",
 "description": "",
 "copyrightText": "©Tórshavnar kommuna",
 "supportsDynamicLayers": true,
 "layers": [
  {
   "id": 0,
   "name": "myndakort",
   "parentLayerId": -1,
   "defaultVisibility": true,
   "subLayerIds": [
    1,
    2,
    3
   ],
   "minScale": 4096000,
   "maxScale": 0,
   "type": "Mosaic Layer"
  },
  {
   "id": 1,
   "name": "Boundary",
   "parentLayerId": 0,
   "defaultVisibility": false,
   "subLayerIds": null,
   "minScale": 0,
   "maxScale": 0,
   "type": "Feature Layer",
   "geometryType": "esriGeometryPolygon"
  },
  {
   "id": 2,
   "name": "Footprint",
   "parentLayerId": 0,
   "defaultVisibility": false,
   "subLayerIds": null,
   "minScale": 0,
   "maxScale": 0,
   "type": "Feature Layer",
   "geometryType": "esriGeometryPolygon"
  },
  {
   "id": 3,
   "name": "Image",
   "parentLayerId": 0,
   "defaultVisibility": true,
   "subLayerIds": null,
   "minScale": 0,
   "maxScale": 0,
   "type": "Raster Layer"
  }
 ],
 "tables": [],
 "spatialReference": {
  "wkid": 5316,
  "latestWkid": 5316
 },
 "singleFusedMapCache": true,
 "tileInfo": {
  "rows": 256,
  "cols": 256,
  "dpi": 96,
  "format": "MIXED",
  "compressionQuality": 75,
  "origin": {
   "x": -5423100,
   "y": 4002100
  },
  "spatialReference": {
   "wkid": 5316,
   "latestWkid": 5316
  },
  "lods": [
   {
    "level": 0,
    "resolution": 135.46693760054188,
    "scale": 512000
   },
   {
    "level": 1,
    "resolution": 67.73346880027094,
    "scale": 256000
   },
   {
    "level": 2,
    "resolution": 33.86673440013547,
    "scale": 128000
   },
   {
    "level": 3,
    "resolution": 16.933367200067735,
    "scale": 64000
   },
   {
    "level": 4,
    "resolution": 8.466683600033868,
    "scale": 32000
   },
   {
    "level": 5,
    "resolution": 4.233341800016934,
    "scale": 16000
   },
   {
    "level": 6,
    "resolution": 2.116670900008467,
    "scale": 8000
   },
   {
    "level": 7,
    "resolution": 1.0583354500042335,
    "scale": 4000
   },
   {
    "level": 8,
    "resolution": 0.5291677250021167,
    "scale": 2000
   },
   {
    "level": 9,
    "resolution": 0.26458386250105836,
    "scale": 1000
   },
   {
    "level": 10,
    "resolution": 0.13229193125052918,
    "scale": 500
   }
  ]
 },
 "initialExtent": {
  "xmin": 203313.86851626725,
  "ymin": 876461.0394360156,
  "xmax": 217995.097878726,
  "ymax": 882525.3015645399,
  "spatialReference": {
   "wkid": 5316,
   "latestWkid": 5316
  }
 },
 "fullExtent": {
  "xmin": 199207.5432000002,
  "ymin": 841231.7022200206,
  "xmax": 220650.0928000002,
  "ymax": 900100.000121,
  "spatialReference": {
   "wkid": 5316,
   "latestWkid": 5316
  }
 },
 "minScale": 512000,
 "maxScale": 500,
 "minLOD": 0,
 "maxLOD": 10,
 "units": "esriMeters",
 "supportedImageFormatTypes": "PNG32,PNG24,PNG,JPG,DIB,TIFF,EMF,PS,PDF,GIF,SVG,SVGZ,BMP",
 "documentInfo": {
  "Title": "Myndakort (cached)(alment)",
  "Author": "Martin Sirkovsky",
  "Comments": "Myndakort av Tórhsavnar kommunu til almenningin. Zoom er avmarkað til 1:1000",
  "Subject": "Myndakort av Tórhsavnar kommunu til almenningin. Zoom er avmarkað til 1:1000",
  "Category": "",
  "AntialiasingMode": "None",
  "TextAntialiasingMode": "Force",
  "Keywords": "myndakort,TK,cached,tórshavnar kommuna,alment"
 },
 "capabilities": "Map,Query,Data",
 "supportedQueryFormats": "JSON, geoJSON",
 "exportTilesAllowed": false,
 "referenceScale": 0,
 "supportsDatumTransformation": true,
 "maxRecordCount": 1000,
 "maxImageHeight": 4096,
 "maxImageWidth": 4096,
 "supportedExtensions": ""
}
